BEGIN:VCALENDAR
VERSION:2.0
PRODID:-//ChamberMaster//Event Calendar 2.0//EN
METHOD:PUBLISH
X-PUBLISHED-TTL:P3D
REFRESH-INTERVAL:P3D
CALSCALE:GREGORIAN
BEGIN:VEVENT
DTSTART:20200311T003000Z
DTEND:20200311T020000Z
X-MICROSOFT-CDO-ALLDAYEVENT:FALSE
SUMMARY:Keeping Up With Keeping Out
DESCRIPTION:Whether you love to hike\, bike\, hunt\, fish\, or simply explore\, understanding or\n\neven recognizing private property boundaries can be tricky.\n\nJoin Palouse Land Trust and an outstanding panel of experts for a free\,\n\ncasual\, and informative learning event focused on recent changes to Idaho's\n\ntrespassing laws and how you can recreate responsibly\, safely\, and with\n\nrespect on the lands we all love across the region.
X-ALT-DESC;FMTTYPE=text/html:Whether you love to hike\, bike\, hunt\, fish\, or simply explore\, understanding or<br />\neven recognizing private property boundaries can be tricky.<br />\nJoin Palouse Land Trust and an outstanding panel of experts for a free\,<br />\ncasual\, and informative learning event focused on recent changes to Idaho&#39\;s<br />\ntrespassing laws and how you can recreate responsibly\, safely\, and with<br />\nrespect on the lands we all love across the region.
LOCATION:Hunga Dunga Brewing Company 333 Jackson St. Moscow\, ID
UID:e.1617.33466
SEQUENCE:3
DTSTAMP:20260422T042449Z
URL:http://moscowchamber.chambermaster.com/events/details/keeping-up-with-keeping-out-33466
END:VEVENT

END:VCALENDAR
