BEGIN:VCALENDAR
VERSION:2.0
PRODID:-//ChamberMaster//Event Calendar 2.0//EN
METHOD:PUBLISH
X-PUBLISHED-TTL:P3D
REFRESH-INTERVAL:P3D
CALSCALE:GREGORIAN
BEGIN:VEVENT
DTSTART:20190223T020000Z
DTEND:20190223T030000Z
X-MICROSOFT-CDO-ALLDAYEVENT:FALSE
SUMMARY:Love Yourself!
DESCRIPTION:Join Palouse Juice for a free (with purchase) one hour health workshop! This workshop will include tips and tricks to stay healthy and be your best self! Class size is limited so be sure to register your spot at Palouse Juice.
X-ALT-DESC;FMTTYPE=text/html:Join Palouse Juice for a free (with purchase) one hour health workshop! This workshop will include tips and tricks to stay healthy and be your best self! Class size is limited so be sure to register your spot at Palouse Juice.
LOCATION:Palouse Juice 509 S. Main St. Moscow\, ID
UID:e.1617.29616
SEQUENCE:3
DTSTAMP:20260423T153926Z
URL:http://moscowchamber.chambermaster.com/events/details/love-yourself-29616
END:VEVENT

END:VCALENDAR
